BEGIN:VCALENDAR
VERSION:2.0
PRODID:icalendar-ruby
CALSCALE:GREGORIAN
METHOD:PUBLISH
BEGIN:VEVENT
DTSTAMP:20260421T100528Z
UID:23419fb5-55ba-4265-9d9d-047897b9a5d8
DTSTART:20230701T143000
DTEND:20230701T160000
DESCRIPTION:Voici le moment tant attendu ! Nous avons le plaisir de tous vo
 us retrouver pour célébrer notre union. Si vous souhaitez participer à 
 la chorale\, faites le nous savoir dans le RSVP !\n\nVous pouvez ajouter c
 et événement à votre agenda en 1 clic \;) Per ulteriori informazioni\, 
 visitare il sito : https://www.ungrandjour.com/it/benjamin-elena
LOCATION:Cathédrale Notre-Dame de Paris\, 75004\, Paris\, France
SUMMARY:Cérémonie de mariage
END:VEVENT
END:VCALENDAR
