BEGIN:VCALENDAR
VERSION:2.0
PRODID:icalendar-ruby
CALSCALE:GREGORIAN
METHOD:PUBLISH
BEGIN:VEVENT
DTSTAMP:20260421T113121Z
UID:c39e4f2d-7fdb-48b7-acdc-6208d9b23ef9
DTSTART:20250614T140000
DTEND:20250614T150000
DESCRIPTION: Pour avoir plus d'informations rendez vous sur :  https://www.
 ungrandjour.com/fr/mariage-alice-pierre
LOCATION:Église Saint-Cornély\, 56340 Carnac\, France
SUMMARY:Cérémonie religieuse
END:VEVENT
END:VCALENDAR
