BEGIN:VCALENDAR
VERSION:2.0
PRODID:icalendar-ruby
CALSCALE:GREGORIAN
METHOD:PUBLISH
BEGIN:VEVENT
DTSTAMP:20260420T104345Z
UID:b3461467-f2e8-4901-be15-a9e2fc9d9cb2
DTSTART:20250608T163000
DTEND:20250608T173000
DESCRIPTION:Itinéraire Maps Para más información\, visita: https://www.u
 ngrandjour.com/es/mariage-stephanie-et-bernarith
LOCATION:Château Barthélemy\, Douaville\, Paray-Douaville\, France
SUMMARY:Accueil des invités
END:VEVENT
END:VCALENDAR
