BEGIN:VCALENDAR
VERSION:2.0
PRODID:icalendar-ruby
CALSCALE:GREGORIAN
METHOD:PUBLISH
BEGIN:VEVENT
DTSTAMP:20260421T130851Z
UID:583f091c-9d0f-4c09-8c5f-d1f25b782b21
DTSTART:20250614T193000
DTEND:20250614T040000
DESCRIPTION: For more information\, please visit: https://www.ungrandjour.c
 om/en/mariage-alice-pierre
LOCATION:La Baie des Anges\, 56340 Plouharnel\, France
SUMMARY:Soirée
END:VEVENT
END:VCALENDAR
