BEGIN:VCALENDAR
VERSION:2.0
PRODID:icalendar-ruby
CALSCALE:GREGORIAN
METHOD:PUBLISH
BEGIN:VEVENT
DTSTAMP:20260421T130906Z
UID:b3b055a9-49e5-4528-b925-b6daf8653ed8
DTSTART:20250614T163000
DTEND:20250614T193000
DESCRIPTION: For more information\, please visit: https://www.ungrandjour.c
 om/en/mariage-alice-pierre
LOCATION:La Baie des Anges\, 56340 Plouharnel\, France
SUMMARY:Vin d'honneur
END:VEVENT
END:VCALENDAR
