BEGIN:VCALENDAR
VERSION:2.0
PRODID:icalendar-ruby
CALSCALE:GREGORIAN
METHOD:PUBLISH
BEGIN:VEVENT
DTSTAMP:20260421T111655Z
UID:344c6a6c-bb33-4b46-a872-2fa22e6907e5
DTSTART:20230702T120000
DTEND:20230702T130000
DESCRIPTION:Pour se remettre en forme après la soirée\, nous vous avons p
 réparé un Brunch avec diverses activités: Pétanque\, musique live\, pi
 scine For more information\, please visit: https://www.ungrandjour.com/en/
 benjamin-elena
LOCATION:Haras de Zuigotte\, 92890\, Noyon\, France
SUMMARY:Brunch
END:VEVENT
END:VCALENDAR
