BEGIN:VCALENDAR
VERSION:2.0
PRODID:icalendar-ruby
CALSCALE:GREGORIAN
METHOD:PUBLISH
BEGIN:VEVENT
DTSTAMP:20260421T111655Z
UID:295e9de4-5459-484e-b305-cea7607a5d0b
DTSTART:20230701T170000
DTEND:20230702T050000
DESCRIPTION: For more information\, please visit: https://www.ungrandjour.c
 om/en/benjamin-elena
LOCATION:Haras de Zuigotte\, 92890\, Noyon\, France
SUMMARY:Vin d'honneur & Soirée
END:VEVENT
END:VCALENDAR
