BEGIN:VCALENDAR
VERSION:2.0
PRODID:icalendar-ruby
CALSCALE:GREGORIAN
METHOD:PUBLISH
BEGIN:VEVENT
DTSTAMP:20260421T130743Z
UID:5d2d2e1d-957c-4bab-93b5-24bb27d875d6
DTSTART:20250615T123000
DTEND:20250615T133000
DESCRIPTION: Weitere Informationen finden Sie unter : https://www.ungrandjo
 ur.com/de/mariage-alice-pierre
LOCATION:Port de Quiberon\, Quiberon\, France
SUMMARY:Brunch
END:VEVENT
END:VCALENDAR
